BEGIN:VCALENDAR
VERSION:2.0
PRODID:-//Leaning In Ministries - ECPv6.13.2.1//NONSGML v1.0//EN
CALSCALE:GREGORIAN
METHOD:PUBLISH
X-ORIGINAL-URL:https://leaninginministries.com
X-WR-CALDESC:Events for Leaning In Ministries
REFRESH-INTERVAL;VALUE=DURATION:PT1H
X-Robots-Tag:noindex
X-PUBLISHED-TTL:PT1H
BEGIN:VTIMEZONE
TZID:America/Indiana/Indianapolis
BEGIN:DAYLIGHT
TZOFFSETFROM:-0500
TZOFFSETTO:-0400
TZNAME:EDT
DTSTART:20190310T070000
END:DAYLIGHT
BEGIN:STANDARD
TZOFFSETFROM:-0400
TZOFFSETTO:-0500
TZNAME:EST
DTSTART:20191103T060000
END:STANDARD
BEGIN:DAYLIGHT
TZOFFSETFROM:-0500
TZOFFSETTO:-0400
TZNAME:EDT
DTSTART:20200308T070000
END:DAYLIGHT
BEGIN:STANDARD
TZOFFSETFROM:-0400
TZOFFSETTO:-0500
TZNAME:EST
DTSTART:20201101T060000
END:STANDARD
END:VTIMEZONE
BEGIN:VEVENT
DTSTART;TZID=America/Indiana/Indianapolis:20200227T190000
DTEND;TZID=America/Indiana/Indianapolis:20200227T210000
DTSTAMP:20260423T154537
CREATED:20200113T160525Z
LAST-MODIFIED:20200113T160525Z
UID:953-1582830000-1582837200@leaninginministries.com
SUMMARY:"Go-To Girls" Bible Study
DESCRIPTION:During Week 4\, women in this study will explore Elizabeth’s character. The focus demonstrates how to be a safe place when a friend runs into your arms for help or encouragement.
URL:https://leaninginministries.com/event/go-to-girls-bible-study-7/
LOCATION:The Table\, 127 E Jackson\, Monroe\, IN\, 46772\, United States
END:VEVENT
BEGIN:VEVENT
DTSTART;TZID=America/Indiana/Indianapolis:20200227T090000
DTEND;TZID=America/Indiana/Indianapolis:20200227T110000
DTSTAMP:20260423T154537
CREATED:20200113T160418Z
LAST-MODIFIED:20200113T160418Z
UID:951-1582794000-1582801200@leaninginministries.com
SUMMARY:"Go-To Girls" Bible Study
DESCRIPTION:During Week 4\, women in this study will explore Elizabeth’s character. The focus demonstrates how to be a safe place when a friend runs into your arms for help or encouragement.
URL:https://leaninginministries.com/event/go-to-girls-bible-study-6/
LOCATION:The Table\, 127 E Jackson\, Monroe\, IN\, 46772\, United States
END:VEVENT
BEGIN:VEVENT
DTSTART;TZID=America/Indiana/Indianapolis:20200226T190000
DTEND;TZID=America/Indiana/Indianapolis:20200226T200000
DTSTAMP:20260423T154537
CREATED:20200113T150811Z
LAST-MODIFIED:20200113T150811Z
UID:927-1582743600-1582747200@leaninginministries.com
SUMMARY:Sermon Series: The Beatitudes
DESCRIPTION:Lana explores the launch of Jesus’ ministry\, including his calling of the disciples\, and how the details of the first days in ministry inform his first episode of teaching in Matthew 5. The Beatitudes introduce the Sermon on the Mount\, and Lana shows why the order of Jesus’ sermon matters to Christians in America today.
URL:https://leaninginministries.com/event/sermon-series-the-beatitudes-4/
LOCATION:First Mennonite Church\, Berne\, IN\, 46711\, United States
END:VEVENT
BEGIN:VEVENT
DTSTART;TZID=America/Indiana/Indianapolis:20200223T090000
DTEND;TZID=America/Indiana/Indianapolis:20200223T100000
DTSTAMP:20260423T154537
CREATED:20200113T164005Z
LAST-MODIFIED:20200113T164005Z
UID:975-1582448400-1582452000@leaninginministries.com
SUMMARY:"Hermeneutics 101"
DESCRIPTION:Lana teaches young adults how to practically study the Bible. \nThis class includes information about: \n\nThe history of Bible translation\nThe challenges and value of different Bible translations\nHow to interpret and read the Bible\nConsider Historical and Cultural Contexts\nExplore Literary Context\nPracticing with word studies\nDetermining meaning from Scripture\nPractice Interpreting the Letters of the NT\nPractice Interpreting the gospels of the NT\nPractice Interpreting Acts in the NT\nPractice Interpreting Revelation in the NT\nPractice Interpreting Narrative in the OT\nPractice Interpreting Laws of the OT\nPractice Interpreting Poetry in the OT\nPractice Interpreting Prophecy in the OT\nPractice Interpreting Wisdom in the OT
URL:https://leaninginministries.com/event/hermeneutics-101-6/
LOCATION:First Mennonite Church\, Berne\, IN\, 46711\, United States
END:VEVENT
BEGIN:VEVENT
DTSTART;TZID=America/Indiana/Indianapolis:20200220T190000
DTEND;TZID=America/Indiana/Indianapolis:20200220T210000
DTSTAMP:20260423T154537
CREATED:20200113T164104Z
LAST-MODIFIED:20200113T164104Z
UID:949-1582225200-1582232400@leaninginministries.com
SUMMARY:"Go-To Girls" Bible Study
DESCRIPTION:During Week 3\, Lana studies Mary and Elizabeth’s interaction in Luke 1 and explores what it takes to be vulnerable in friendship. Modeled by Mary\, modern believers find rich support when they know how to receive love\, advice\, support\, etc. in a healthy friendship.
URL:https://leaninginministries.com/event/go-to-girls-bible-study-12/
LOCATION:The Table\, 127 E Jackson\, Monroe\, IN\, 46772\, United States
END:VEVENT
BEGIN:VEVENT
DTSTART;TZID=America/Indiana/Indianapolis:20200220T090000
DTEND;TZID=America/Indiana/Indianapolis:20200220T110000
DTSTAMP:20260423T154537
CREATED:20200113T155712Z
LAST-MODIFIED:20200113T155712Z
UID:946-1582189200-1582196400@leaninginministries.com
SUMMARY:"Go-To Girls" Bible Study
DESCRIPTION:During Week 3\, Lana studies Mary and Elizabeth’s interaction in Luke 1 and explores what it takes to be vulnerable in friendship. Modeled by Mary\, modern believers find rich support when they know how to receive love\, advice\, support\, etc. in a healthy friendship.
URL:https://leaninginministries.com/event/go-to-girls-bible-study-5/
LOCATION:The Table\, 127 E Jackson\, Monroe\, IN\, 46772\, United States
END:VEVENT
BEGIN:VEVENT
DTSTART;TZID=America/Indiana/Indianapolis:20200219T190000
DTEND;TZID=America/Indiana/Indianapolis:20200219T200000
DTSTAMP:20260423T154537
CREATED:20200110T020327Z
LAST-MODIFIED:20200110T020327Z
UID:925-1582138800-1582142400@leaninginministries.com
SUMMARY:Sermon Series: The Beatitudes
DESCRIPTION:Lana explores the launch of Jesus’ ministry\, including his calling of the disciples\, and how the details of the first days in ministry inform his first episode of teaching in Matthew 5. The Beatitudes introduce the Sermon on the Mount\, and Lana shows why the order of Jesus’ sermon matters to Christians in America today.
URL:https://leaninginministries.com/event/sermon-series-the-beatitudes-3/
LOCATION:First Mennonite Church\, Berne\, IN\, 46711\, United States
END:VEVENT
BEGIN:VEVENT
DTSTART;TZID=America/Indiana/Indianapolis:20200216T090000
DTEND;TZID=America/Indiana/Indianapolis:20200216T100000
DTSTAMP:20260423T154537
CREATED:20200113T163740Z
LAST-MODIFIED:20200113T163740Z
UID:973-1581843600-1581847200@leaninginministries.com
SUMMARY:"Hermeneutics 101"
DESCRIPTION:Lana teaches young adults how to practically study the Bible. \nThis class includes information about: \n\nThe history of Bible translation\nThe challenges and value of different Bible translations\nHow to interpret and read the Bible\nConsider Historical and Cultural Contexts\nExplore Literary Context\nPracticing with word studies\nDetermining meaning from Scripture\nPractice Interpreting the Letters of the NT\nPractice Interpreting the gospels of the NT\nPractice Interpreting Acts in the NT\nPractice Interpreting Revelation in the NT\nPractice Interpreting Narrative in the OT\nPractice Interpreting Laws of the OT\nPractice Interpreting Poetry in the OT\nPractice Interpreting Prophecy in the OT\nPractice Interpreting Wisdom in the OT
URL:https://leaninginministries.com/event/hermeneutics-101-4/
LOCATION:First Mennonite Church\, Berne\, IN\, 46711\, United States
END:VEVENT
BEGIN:VEVENT
DTSTART;TZID=America/Indiana/Indianapolis:20200213T190000
DTEND;TZID=America/Indiana/Indianapolis:20200213T210000
DTSTAMP:20260423T154537
CREATED:20200113T155027Z
LAST-MODIFIED:20200113T155027Z
UID:943-1581620400-1581627600@leaninginministries.com
SUMMARY:"Go-To Girls" Bible Study
DESCRIPTION:Week 2 of this study on friendship looks at Mary’s choice of a friend and how that demonstrates wisdom in choosing a close friend.
URL:https://leaninginministries.com/event/go-to-girls-bible-study-4/
LOCATION:TBA
END:VEVENT
BEGIN:VEVENT
DTSTART;TZID=America/Indiana/Indianapolis:20200213T090000
DTEND;TZID=America/Indiana/Indianapolis:20200213T110000
DTSTAMP:20260423T154537
CREATED:20200113T154656Z
LAST-MODIFIED:20200113T154656Z
UID:941-1581584400-1581591600@leaninginministries.com
SUMMARY:"Go-To Girls" Bible Study
DESCRIPTION:Week 2 of this study on friendship looks at Mary’s choice of a friend and how that demonstrates wisdom in choosing a close friend.
URL:https://leaninginministries.com/event/go-to-girls-bible-study-3/
LOCATION:The Table\, 127 E Jackson\, Monroe\, IN\, 46772\, United States
END:VEVENT
BEGIN:VEVENT
DTSTART;TZID=America/Indiana/Indianapolis:20200212T190000
DTEND;TZID=America/Indiana/Indianapolis:20200212T200000
DTSTAMP:20260423T154537
CREATED:20200110T020253Z
LAST-MODIFIED:20200110T020253Z
UID:923-1581534000-1581537600@leaninginministries.com
SUMMARY:Sermon Series: The Beatitudes
DESCRIPTION:Lana explores the launch of Jesus’ ministry\, including his calling of the disciples\, and how the details of the first days in ministry inform his first episode of teaching in Matthew 5. The Beatitudes introduce the Sermon on the Mount\, and Lana shows why the order of Jesus’ sermon matters to Christians in America today.
URL:https://leaninginministries.com/event/sermon-series-the-beatitudes-2/
LOCATION:First Mennonite Church\, Berne\, IN\, 46711\, United States
END:VEVENT
BEGIN:VEVENT
DTSTART;TZID=America/Indiana/Indianapolis:20200209T090000
DTEND;TZID=America/Indiana/Indianapolis:20200209T100000
DTSTAMP:20260423T154537
CREATED:20200113T163814Z
LAST-MODIFIED:20200113T163814Z
UID:970-1581238800-1581242400@leaninginministries.com
SUMMARY:"Hermeneutics 101"
DESCRIPTION:Lana teaches young adults how to practically study the Bible. \nThis class includes information about: \n\nThe history of Bible translation\nThe challenges and value of different Bible translations\nHow to interpret and read the Bible\nConsider Historical and Cultural Contexts\nExplore Literary Context\nPracticing with word studies\nDetermining meaning from Scripture\nPractice Interpreting the Letters of the NT\nPractice Interpreting the gospels of the NT\nPractice Interpreting Acts in the NT\nPractice Interpreting Revelation in the NT\nPractice Interpreting Narrative in the OT\nPractice Interpreting Laws of the OT\nPractice Interpreting Poetry in the OT\nPractice Interpreting Prophecy in the OT\nPractice Interpreting Wisdom in the OT
URL:https://leaninginministries.com/event/hermeneutics-101-5/
LOCATION:First Mennonite Church\, Berne\, IN\, 46711\, United States
END:VEVENT
BEGIN:VEVENT
DTSTART;TZID=America/Indiana/Indianapolis:20200206T190000
DTEND;TZID=America/Indiana/Indianapolis:20200206T210000
DTSTAMP:20260423T154537
CREATED:20200113T154122Z
LAST-MODIFIED:20200113T154122Z
UID:938-1581015600-1581022800@leaninginministries.com
SUMMARY:"Go-To Girls" Bible Study
DESCRIPTION:Week 1 of this study will introduce the topic of friendship and our guiding Scripture and characters. Lana will study Mary’s response to the angel’s visit in Luke 1 and how it informs women today in their relationships with other women. This conversation will include how to have a friend with intention.
URL:https://leaninginministries.com/event/go-to-girls-bible-study-2/
LOCATION:The Table\, 127 E Jackson\, Monroe\, IN\, 46772\, United States
END:VEVENT
BEGIN:VEVENT
DTSTART;TZID=America/Indiana/Indianapolis:20200206T090000
DTEND;TZID=America/Indiana/Indianapolis:20200206T110000
DTSTAMP:20260423T154537
CREATED:20200113T153814Z
LAST-MODIFIED:20200113T153814Z
UID:936-1580979600-1580986800@leaninginministries.com
SUMMARY:"Go-To Girls" Bible Study
DESCRIPTION:Week 1 of this study will introduce the topic of friendship and our guiding Scripture and characters. Lana will study Mary’s response to the angel’s visit in Luke 1 and how it informs women today in their relationships with other women. This conversation will include how to have a friend with intention.
URL:https://leaninginministries.com/event/go-to-girls-bible-study/
LOCATION:The Table\, 127 E Jackson\, Monroe\, IN\, 46772\, United States
END:VEVENT
BEGIN:VEVENT
DTSTART;TZID=America/Indiana/Indianapolis:20200205T190000
DTEND;TZID=America/Indiana/Indianapolis:20200205T200000
DTSTAMP:20260423T154537
CREATED:20200110T020212Z
LAST-MODIFIED:20200110T020212Z
UID:921-1580929200-1580932800@leaninginministries.com
SUMMARY:Sermon Series: The Beatitudes
DESCRIPTION:Lana explores the launch of Jesus’ ministry\, including his calling of the disciples\, and how the details of the first days in ministry inform his first episode of teaching in Matthew 5. The Beatitudes introduce the Sermon on the Mount\, and Lana shows why the order of Jesus’ sermon matters to Christians in America today.
URL:https://leaninginministries.com/event/sermon-series-the-beatitudes/
LOCATION:First Mennonite Church\, Berne\, IN\, 46711\, United States
END:VEVENT
BEGIN:VEVENT
DTSTART;TZID=America/Indiana/Indianapolis:20200126T090000
DTEND;TZID=America/Indiana/Indianapolis:20200126T100000
DTSTAMP:20260423T154537
CREATED:20200113T163311Z
LAST-MODIFIED:20200113T163311Z
UID:968-1580029200-1580032800@leaninginministries.com
SUMMARY:"Hermeneutics 101"
DESCRIPTION:Lana teaches young adults how to practically study the Bible. \nThis class includes information about: \n\nThe history of Bible translation\nThe challenges and value of different Bible translations\nHow to interpret and read the Bible\nConsider Historical and Cultural Contexts\nExplore Literary Context\nPracticing with word studies\nDetermining meaning from Scripture\nPractice Interpreting the Letters of the NT\nPractice Interpreting the gospels of the NT\nPractice Interpreting Acts in the NT\nPractice Interpreting Revelation in the NT\nPractice Interpreting Narrative in the OT\nPractice Interpreting Laws of the OT\nPractice Interpreting Poetry in the OT\nPractice Interpreting Prophecy in the OT\nPractice Interpreting Wisdom in the OT
URL:https://leaninginministries.com/event/hermeneutics-101-3/
LOCATION:First Mennonite Church\, Berne\, IN\, 46711\, United States
END:VEVENT
BEGIN:VEVENT
DTSTART;TZID=America/Indiana/Indianapolis:20200120T190000
DTEND;TZID=America/Indiana/Indianapolis:20200120T210000
DTSTAMP:20260423T154537
CREATED:20200113T151458Z
LAST-MODIFIED:20200113T152012Z
UID:930-1579546800-1579554000@leaninginministries.com
SUMMARY:The "S" Word Bible Study
DESCRIPTION:The topic of teaching and conversation for this women’s Bible study is the “S” word….submission. Lana uses 1 Peter 3 and the story of Sarah in Genesis to explore the Biblical explanation of the role of a wife and woman. Weaving in her own personal testimony of growth in her role as a wife\, she tells of the freedom gained through living a life of submission.
URL:https://leaninginministries.com/event/the-s-word-bible-study/
LOCATION:Private Study
END:VEVENT
BEGIN:VEVENT
DTSTART;TZID=America/Indiana/Indianapolis:20200119T090000
DTEND;TZID=America/Indiana/Indianapolis:20200119T100000
DTSTAMP:20260423T154537
CREATED:20200113T163058Z
LAST-MODIFIED:20200113T163058Z
UID:966-1579424400-1579428000@leaninginministries.com
SUMMARY:"Hermeneutics 101"
DESCRIPTION:Lana teaches young adults how to practically study the Bible. \nThis class includes information about: \n\nThe history of Bible translation\nThe challenges and value of different Bible translations\nHow to interpret and read the Bible\nConsider Historical and Cultural Contexts\nExplore Literary Context\nPracticing with word studies\nDetermining meaning from Scripture\nPractice Interpreting the Letters of the NT\nPractice Interpreting the gospels of the NT\nPractice Interpreting Acts in the NT\nPractice Interpreting Revelation in the NT\nPractice Interpreting Narrative in the OT\nPractice Interpreting Laws of the OT\nPractice Interpreting Poetry in the OT\nPractice Interpreting Prophecy in the OT\nPractice Interpreting Wisdom in the OT
URL:https://leaninginministries.com/event/hermeneutics-101-2/
LOCATION:First Mennonite Church\, Berne\, IN\, 46711\, United States
END:VEVENT
BEGIN:VEVENT
DTSTART;TZID=America/Indiana/Indianapolis:20200112T090000
DTEND;TZID=America/Indiana/Indianapolis:20200112T100000
DTSTAMP:20260423T154537
CREATED:20200113T162408Z
LAST-MODIFIED:20200113T162408Z
UID:963-1578819600-1578823200@leaninginministries.com
SUMMARY:"Hermeneutics 101"
DESCRIPTION:Lana teaches young adults how to practically study the Bible. \nThis class includes: \n\nThe history of Bible translation\nThe challenges and value of different Bible translations\nHow to interpret and read the Bible\nConsider Historical and Cultural Contexts\nExplore Literary Context\nPracticing with word studies\nDetermining meaning from Scripture\nPractice Interpreting the Letters of the NT\nPractice Interpreting the gospels of the NT\nPractice Interpreting Acts in the NT\nPractice Interpreting Revelation in the NT\nPractice Interpreting Narrative in the OT\nPractice Interpreting Laws of the OT\nPractice Interpreting Poetry in the OT\nPractice Interpreting Prophecy in the OT\nPractice Interpreting Wisdom in the OT
URL:https://leaninginministries.com/event/hermeneutics-101/
LOCATION:First Mennonite Church\, Berne\, IN\, 46711\, United States
END:VEVENT
BEGIN:VEVENT
DTSTART;TZID=America/Indiana/Indianapolis:20200108T100000
DTEND;TZID=America/Indiana/Indianapolis:20200108T110000
DTSTAMP:20260423T154537
CREATED:20200110T014356Z
LAST-MODIFIED:20200110T014356Z
UID:919-1578477600-1578481200@leaninginministries.com
SUMMARY:MomLife
DESCRIPTION:The topic of teaching and conversation for this amazing group of moms is the “S” word….submission. Lana uses 1 Peter 3 and the story of Sarah in Genesis to explore the Biblical explanation of the role of a wife and woman. Weaving in her own personal testimony of growth in her role as a wife\, she tells of her own freedom gained through living a life of submission.
URL:https://leaninginministries.com/event/momlife/
END:VEVENT
BEGIN:VEVENT
DTSTART;TZID=America/Indiana/Indianapolis:20191107T190000
DTEND;TZID=America/Indiana/Indianapolis:20191107T210000
DTSTAMP:20260423T154537
CREATED:20191102T221428Z
LAST-MODIFIED:20191122T174134Z
UID:737-1573153200-1573160400@leaninginministries.com
SUMMARY:Pre-Christmas Therapy Bible Study
DESCRIPTION:This stand-alone Bible study covering the Christmas story will challenge the audience to think about their Christmas company in comparison to the company surrounding the birth of Jesus. Lana’s study includes a chance for women to discuss the Christmas season as a platform for ministry. Anyone who sends an RSVP receives a free gift from Lana!
URL:https://leaninginministries.com/event/christmas-bible-study/
LOCATION:The Table\, 127 E Jackson\, Monroe\, IN\, 46772\, United States
END:VEVENT
BEGIN:VEVENT
DTSTART;TZID=America/Indiana/Indianapolis:20191027T183000
DTEND;TZID=America/Indiana/Indianapolis:20191027T193000
DTSTAMP:20260423T154537
CREATED:20190815T192354Z
LAST-MODIFIED:20190815T192504Z
UID:671-1572201000-1572204600@leaninginministries.com
SUMMARY:Lessons From Kings- Part 3
DESCRIPTION:Lana’s study in the Historical books this term at Moody Bible Institute proves there is more than meets the eye to these Old Testament books! Listen as she shares a three part series in the church chapel and applies the work of the kings to applicable principles for the believer today.
URL:https://leaninginministries.com/event/lessons-from-kings-part-3-bible-study/
LOCATION:First Mennonite Church\, Berne\, IN\, 46711\, United States
END:VEVENT
BEGIN:VEVENT
DTSTART;TZID=America/Indiana/Indianapolis:20191020T183000
DTEND;TZID=America/Indiana/Indianapolis:20191020T193000
DTSTAMP:20260423T154537
CREATED:20190815T192148Z
LAST-MODIFIED:20190815T192538Z
UID:669-1571596200-1571599800@leaninginministries.com
SUMMARY:Lessons From Kings- Part 2
DESCRIPTION:Lana’s study in the Historical books this term at Moody Bible Institute proves there is more than meets the eye to these Old Testament books! Listen as she shares a three part series in the church chapel and applies the work of the kings to applicable principles for the believer today.
URL:https://leaninginministries.com/event/lesson-from-kings-part-2-bible-study/
LOCATION:First Mennonite Church\, Berne\, IN\, 46711\, United States
END:VEVENT
BEGIN:VEVENT
DTSTART;TZID=America/Indiana/Indianapolis:20191013T183000
DTEND;TZID=America/Indiana/Indianapolis:20191013T193000
DTSTAMP:20260423T154537
CREATED:20190815T192001Z
LAST-MODIFIED:20190815T192623Z
UID:666-1570991400-1570995000@leaninginministries.com
SUMMARY:Lessons from Kings- Part 1
DESCRIPTION:Lana’s study in the Historical books this term at Moody Bible Institute proves there is more than meets the eye to these Old Testament books! Listen as she shares a three part series in the church chapel and applies the work of the kings to applicable principles for the believer today.
URL:https://leaninginministries.com/event/lessons-from-kings-bible-study/
LOCATION:First Mennonite Church\, Berne\, IN\, 46711\, United States
END:VEVENT
BEGIN:VEVENT
DTSTART;TZID=America/Indiana/Indianapolis:20191005T130000
DTEND;TZID=America/Indiana/Indianapolis:20191005T203000
DTSTAMP:20260423T154537
CREATED:20190815T190825Z
LAST-MODIFIED:20190815T190825Z
UID:663-1570280400-1570307400@leaninginministries.com
SUMMARY:Sonlight Wesleyan Women's Retreat
DESCRIPTION:Lana will share “Your Go-To Girls” based on the story of Mary and Elizabeth in Luke’s gospel. Join the women at Sunlight Wesleyan in Bluffton\, Indiana to hear this message and learn a biblical model for friendship among Christian women.
URL:https://leaninginministries.com/event/sonlight-wesleyan-womens-retreat/
END:VEVENT
BEGIN:VEVENT
DTSTART;TZID=America/Indiana/Indianapolis:20190913T190000
DTEND;TZID=America/Indiana/Indianapolis:20190913T210000
DTSTAMP:20260423T154537
CREATED:20190815T181825Z
LAST-MODIFIED:20190815T181825Z
UID:659-1568401200-1568408400@leaninginministries.com
SUMMARY:Girls' Night Out
DESCRIPTION:Join Lana as she unpacks God’s word for your life. Light snacks and printed material available. Just bring your Bible\, a journal and pen\, and an eager heart! Scripture and topic to be determined.
URL:https://leaninginministries.com/event/bible-study/
LOCATION:The Table\, 127 E Jackson\, Monroe\, IN\, 46772\, United States
ORGANIZER;CN="Lana Shoaf":MAILTO:lanashoaf@gmail.com
END:VEVENT
BEGIN:VEVENT
DTSTART;TZID=America/Indiana/Indianapolis:20190809T190000
DTEND;TZID=America/Indiana/Indianapolis:20190809T210000
DTSTAMP:20260423T154537
CREATED:20190808T173451Z
LAST-MODIFIED:20190808T173505Z
UID:573-1565377200-1565384400@leaninginministries.com
SUMMARY:Leaning In Bible Study - August 9
DESCRIPTION:Leaning In Bible Study at The Table in downtown Monroe\, Indiana. Women from the community are invited to a refreshing night of digging into God’s Word to hear His voice. Through guided instruction\, women will learn how to ask questions and find answers in the Bible. Light refreshments begin at 7 and the study will last until 9.
URL:https://leaninginministries.com/event/leaning-in-bible-study-august-9/
LOCATION:The Table\, 127 E Jackson\, Monroe\, IN\, 46772\, United States
END:VEVENT
BEGIN:VEVENT
DTSTART;TZID=America/Indiana/Indianapolis:20190719T190000
DTEND;TZID=America/Indiana/Indianapolis:20190719T210000
DTSTAMP:20260423T154537
CREATED:20190808T173131Z
LAST-MODIFIED:20190808T173131Z
UID:569-1563562800-1563570000@leaninginministries.com
SUMMARY:Leaning In Bible Study - July 19
DESCRIPTION:Leaning In Bible Study at The Table in downtown Monroe\, Indiana. Women from the community are invited to a refreshing night of digging into God’s Word to hear His voice. Through guided instruction\, women will learn how to ask questions and find answers in the Bible. Light refreshments begin at 7 and the study will last until 9.
URL:https://leaninginministries.com/event/leaning-in-bible-study-july-19/
LOCATION:The Table\, 127 E Jackson\, Monroe\, IN\, 46772\, United States
END:VEVENT
BEGIN:VEVENT
DTSTART;VALUE=DATE:20190716
DTEND;VALUE=DATE:20190719
DTSTAMP:20260423T154537
CREATED:20190808T172927Z
LAST-MODIFIED:20190808T172927Z
UID:566-1563235200-1563494399@leaninginministries.com
SUMMARY:First Mennonite Church Junior High Youth Retreat - Kokomo\, Indiana
DESCRIPTION:First Mennonite Church Junior High Youth Retreat in Kokomo\, Indiana. Pre-registered youth from this church will be gathered to serve and learn on a three day retreat. Lana will share three sessions with these pre-teens and teens. The titles of the sessions are: Life’s Not Fair\, People are Weird\, and Love is the Bottom Line. Through the life and story of Jesus in the book of Luke\, they will learn to love when nothing seems right and people don’t make sense.
URL:https://leaninginministries.com/event/first-mennonite-church-junior-high-youth-retreat-kokomo-indiana/
END:VEVENT
END:VCALENDAR